BEGIN:VCALENDAR
VERSION:2.0
PRODID:icalendar-ruby
CALSCALE:GREGORIAN
METHOD:PUBLISH
BEGIN:VEVENT
DTSTAMP:20260425T133453Z
UID:136-158650@lakevilleumc.org
DTSTART:20260428T190000Z
DTEND:20260428T220000Z
CLASS:PUBLIC
CREATED:20260422T113403
DESCRIPTION:
LAST-MODIFIED:20260422T113403
LOCATION:
SUMMARY:Food Pantry
URL;VALUE=URI:https://www.lakevilleumc.org/events/food-pantry--136/2026-04-
 28
ATTACH;FILENAME=DSC_0009_181.JPG;FMTTYPE=image/jpeg:https://dq5pwpg1q8ru0.c
 loudfront.net/2026/04/22/15/34/02/41dc053b-05da-416f-8bf2-e3f44352f021/DSC
 _0009_181.JPG
END:VEVENT
END:VCALENDAR
