BEGIN:VCALENDAR
VERSION:2.0
PRODID:icalendar-ruby
CALSCALE:GREGORIAN
METHOD:PUBLISH
BEGIN:VEVENT
DTSTAMP:20260423T131634Z
UID:139-158653@lakevilleumc.org
DTSTART:20260425T220000Z
DTEND:20260426T000000Z
CLASS:PUBLIC
CREATED:20260422T113825
DESCRIPTION:
LAST-MODIFIED:20260422T113825
LOCATION:
SUMMARY:Euchre/Game Night
URL;VALUE=URI:https://www.lakevilleumc.org/events/euchre-game-night--139/20
 26-04-25
ATTACH;FILENAME=Game-Night-1.jpg;FMTTYPE=image/jpeg:https://dq5pwpg1q8ru0.c
 loudfront.net/2026/04/22/15/38/25/143aa214-9419-4b63-9944-c888e1321f3e/Gam
 e-Night-1.jpg
END:VEVENT
END:VCALENDAR
